BEGIN:VCALENDAR
VERSION:2.0
PRODID:-//Neighbourhood Charitable Alliance - ECPv6.15.11//NONSGML v1.0//EN
CALSCALE:GREGORIAN
METHOD:PUBLISH
X-ORIGINAL-URL:https://www.neighbourhoodcharitablealliance.com
X-WR-CALDESC:Events for Neighbourhood Charitable Alliance
REFRESH-INTERVAL;VALUE=DURATION:PT1H
X-Robots-Tag:noindex
X-PUBLISHED-TTL:PT1H
BEGIN:VTIMEZONE
TZID:America/Halifax
BEGIN:DAYLIGHT
TZOFFSETFROM:-0400
TZOFFSETTO:-0300
TZNAME:ADT
DTSTART:20230312T060000
END:DAYLIGHT
BEGIN:STANDARD
TZOFFSETFROM:-0300
TZOFFSETTO:-0400
TZNAME:AST
DTSTART:20231105T050000
END:STANDARD
BEGIN:DAYLIGHT
TZOFFSETFROM:-0400
TZOFFSETTO:-0300
TZNAME:ADT
DTSTART:20240310T060000
END:DAYLIGHT
BEGIN:STANDARD
TZOFFSETFROM:-0300
TZOFFSETTO:-0400
TZNAME:AST
DTSTART:20241103T050000
END:STANDARD
BEGIN:DAYLIGHT
TZOFFSETFROM:-0400
TZOFFSETTO:-0300
TZNAME:ADT
DTSTART:20250309T060000
END:DAYLIGHT
BEGIN:STANDARD
TZOFFSETFROM:-0300
TZOFFSETTO:-0400
TZNAME:AST
DTSTART:20251102T050000
END:STANDARD
END:VTIMEZONE
BEGIN:VEVENT
DTSTART;TZID=America/Halifax:20241005T170000
DTEND;TZID=America/Halifax:20241005T233000
DTSTAMP:20260420T091014
CREATED:20231027T200842Z
LAST-MODIFIED:20241003T184909Z
UID:2795-1728147600-1728171000@www.neighbourhoodcharitablealliance.com
SUMMARY:Fall Ball 2024
DESCRIPTION:SAVE THE DATE \nOur Fall Ball is replacing the spring bling.  More details to come. 
URL:https://www.neighbourhoodcharitablealliance.com/event/fall-ball-2024/
LOCATION:Grovedale House Community Hall\, 103 Park Street\, Kingsville\, Ontario\, N9Y 1N6\, Canada
ATTACH;FMTTYPE=image/jpeg:https://www.neighbourhoodcharitablealliance.com/wp-content/uploads/2019/04/IMG_5600.jpg
END:VEVENT
END:VCALENDAR