BEGIN:VCALENDAR
VERSION:2.0
PRODID:-//Neighbourhood Charitable Alliance - ECPv6.15.11//NONSGML v1.0//EN
CALSCALE:GREGORIAN
METHOD:PUBLISH
X-WR-CALNAME:Neighbourhood Charitable Alliance
X-ORIGINAL-URL:https://www.neighbourhoodcharitablealliance.com
X-WR-CALDESC:Events for Neighbourhood Charitable Alliance
REFRESH-INTERVAL;VALUE=DURATION:PT1H
X-Robots-Tag:noindex
X-PUBLISHED-TTL:PT1H
BEGIN:VTIMEZONE
TZID:America/Halifax
BEGIN:DAYLIGHT
TZOFFSETFROM:-0400
TZOFFSETTO:-0300
TZNAME:ADT
DTSTART:20170312T060000
END:DAYLIGHT
BEGIN:STANDARD
TZOFFSETFROM:-0300
TZOFFSETTO:-0400
TZNAME:AST
DTSTART:20171105T050000
END:STANDARD
BEGIN:DAYLIGHT
TZOFFSETFROM:-0400
TZOFFSETTO:-0300
TZNAME:ADT
DTSTART:20180311T060000
END:DAYLIGHT
BEGIN:STANDARD
TZOFFSETFROM:-0300
TZOFFSETTO:-0400
TZNAME:AST
DTSTART:20181104T050000
END:STANDARD
BEGIN:DAYLIGHT
TZOFFSETFROM:-0400
TZOFFSETTO:-0300
TZNAME:ADT
DTSTART:20190310T060000
END:DAYLIGHT
BEGIN:STANDARD
TZOFFSETFROM:-0300
TZOFFSETTO:-0400
TZNAME:AST
DTSTART:20191103T050000
END:STANDARD
END:VTIMEZONE
BEGIN:VEVENT
DTSTART;TZID=America/Halifax:20180407T173000
DTEND;TZID=America/Halifax:20180407T173000
DTSTAMP:20260421T100509
CREATED:20180220T201949Z
LAST-MODIFIED:20200117T200744Z
UID:1374-1523122200-1523122200@www.neighbourhoodcharitablealliance.com
SUMMARY:2018 Spring Bling Gala
DESCRIPTION:Join the NCA Saturday April 7th for an evening of fine wine\, food and live entertainment. Kingsville’s Lakeshore Pavilion will be transformed into a gorgeous venue where our 300 guests can expect to dance the night away\, as they support us in supporting our community! \nThe evening will feature strolling appetizers provided by Licence To Sear\, a sit down feast catered by O’Sarrancino Trattoria\, Live Music by Jenn Knight\, live auction and entertainment by the Speds. Late night snacks donated by Naples Pizza. Premium Cash Bar. \nSPECIAL NOTE: Dinner event is now sold out.  \n$100 Raffle tickets are still available.\nChance to win CASH prizes totalling $10\,000!\nYou do not need to be present to win. \nRaffle Tickets are available at the following location: \nLoop\, Schauer Chapman & Associates LLP\n50 Main St. E\, Kingsville\, ON N9Y 1A2\n519-733-2321 \nProceeds go towards helping your Neighbours in our Community. \n 
URL:https://www.neighbourhoodcharitablealliance.com/event/2018-spring-bling/
LOCATION:Kingsville Lakeside Park\, 315 Queen Street\, Kingsville\, Ontario\, N9Y 1Y8\, Canada
CATEGORIES:Dining,Draws
ATTACH;FMTTYPE=image/jpeg:https://www.neighbourhoodcharitablealliance.com/wp-content/uploads/2018/02/NCA-SpringBling_Icon-2.jpg
END:VEVENT
END:VCALENDAR